BEGIN:VCALENDAR
VERSION:2.0
PRODID:-//Hochschulnetzwerk Digitalisierung der Lehre Baden-Württemberg - ECPv6.15.15//NONSGML v1.0//EN
CALSCALE:GREGORIAN
METHOD:PUBLISH
X-WR-CALNAME:Hochschulnetzwerk Digitalisierung der Lehre Baden-Württemberg
X-ORIGINAL-URL:https://www.hnd-bw.de
X-WR-CALDESC:Veranstaltungen für Hochschulnetzwerk Digitalisierung der Lehre Baden-Württemberg
REFRESH-INTERVAL;VALUE=DURATION:PT1H
X-Robots-Tag:noindex
X-PUBLISHED-TTL:PT1H
BEGIN:VTIMEZONE
TZID:Europe/Berlin
BEGIN:DAYLIGHT
TZOFFSETFROM:+0100
TZOFFSETTO:+0200
TZNAME:CEST
DTSTART:20250330T010000
END:DAYLIGHT
BEGIN:STANDARD
TZOFFSETFROM:+0200
TZOFFSETTO:+0100
TZNAME:CET
DTSTART:20251026T010000
END:STANDARD
BEGIN:DAYLIGHT
TZOFFSETFROM:+0100
TZOFFSETTO:+0200
TZNAME:CEST
DTSTART:20260329T010000
END:DAYLIGHT
BEGIN:STANDARD
TZOFFSETFROM:+0200
TZOFFSETTO:+0100
TZNAME:CET
DTSTART:20261025T010000
END:STANDARD
BEGIN:DAYLIGHT
TZOFFSETFROM:+0100
TZOFFSETTO:+0200
TZNAME:CEST
DTSTART:20270328T010000
END:DAYLIGHT
BEGIN:STANDARD
TZOFFSETFROM:+0200
TZOFFSETTO:+0100
TZNAME:CET
DTSTART:20271031T010000
END:STANDARD
END:VTIMEZONE
BEGIN:VEVENT
DTSTART;TZID=Europe/Berlin:20260209T000000
DTEND;TZID=Europe/Berlin:20260529T235959
DTSTAMP:20260421T114454
CREATED:20260415T114008Z
LAST-MODIFIED:20260415T114009Z
UID:16643-1770595200-1780099199@www.hnd-bw.de
SUMMARY:2026 SoSe Universität Mannheim
DESCRIPTION:
URL:https://www.hnd-bw.de/termine/2026-sose-universitaet-mannheim/
CATEGORIES:Semestertermine
ATTACH;FMTTYPE=image/png:https://www.hnd-bw.de/wp-content/uploads/2025/02/Uni-Mannheim_Logo_Veranstaltungen.png
END:VEVENT
BEGIN:VEVENT
DTSTART;TZID=Europe/Berlin:20260407T000000
DTEND;TZID=Europe/Berlin:20260718T235959
DTSTAMP:20260421T114454
CREATED:20260415T113051Z
LAST-MODIFIED:20260415T113052Z
UID:16629-1775520000-1784419199@www.hnd-bw.de
SUMMARY:2026 SoSe Universität Hohenheim
DESCRIPTION:
URL:https://www.hnd-bw.de/termine/2026-sose-universitaet-hohenheim/
CATEGORIES:Semestertermine
ATTACH;FMTTYPE=image/png:https://www.hnd-bw.de/wp-content/uploads/2025/02/Uni-Hohenheim-Logo_Veranstaltungen-1.png
END:VEVENT
BEGIN:VEVENT
DTSTART;TZID=Europe/Berlin:20260407T000000
DTEND;TZID=Europe/Berlin:20260718T235959
DTSTAMP:20260421T114454
CREATED:20260415T113225Z
LAST-MODIFIED:20260415T113226Z
UID:16631-1775520000-1784419199@www.hnd-bw.de
SUMMARY:2026 SoSe Universität Stuttgart
DESCRIPTION:
URL:https://www.hnd-bw.de/termine/2026-sose-universitaet-stuttgart/
CATEGORIES:Semestertermine
ATTACH;FMTTYPE=image/jpeg:https://www.hnd-bw.de/wp-content/uploads/2025/02/Logo_Universitaet-Stuttgart-neu-2022-quadratisch.jpg
END:VEVENT
BEGIN:VEVENT
DTSTART;TZID=Europe/Berlin:20260407T000000
DTEND;TZID=Europe/Berlin:20260718T235959
DTSTAMP:20260421T114454
CREATED:20260415T113851Z
LAST-MODIFIED:20260415T113852Z
UID:16641-1775520000-1784419199@www.hnd-bw.de
SUMMARY:2026 SoSe Universität Konstanz
DESCRIPTION:
URL:https://www.hnd-bw.de/termine/2026-sose-universitaet-konstanz/
CATEGORIES:Semestertermine
ATTACH;FMTTYPE=image/png:https://www.hnd-bw.de/wp-content/uploads/2025/02/UniKonstanz_Logo_Optimum_sRGB.png
END:VEVENT
BEGIN:VEVENT
DTSTART;TZID=Europe/Berlin:20260413T000000
DTEND;TZID=Europe/Berlin:20260718T235959
DTSTAMP:20260421T114454
CREATED:20260415T113747Z
LAST-MODIFIED:20260415T113748Z
UID:16639-1776038400-1784419199@www.hnd-bw.de
SUMMARY:2026 SoSe Universität Ulm
DESCRIPTION:
URL:https://www.hnd-bw.de/termine/2026-sose-universitaet-ulm/
CATEGORIES:Semestertermine
ATTACH;FMTTYPE=image/png:https://www.hnd-bw.de/wp-content/uploads/2025/02/Logo_uulm_Vorlage_100mm_grau.png
END:VEVENT
BEGIN:VEVENT
DTSTART;TZID=Europe/Berlin:20260413T000000
DTEND;TZID=Europe/Berlin:20260725T235959
DTSTAMP:20260421T114454
CREATED:20260415T113421Z
LAST-MODIFIED:20260415T113421Z
UID:16633-1776038400-1785023999@www.hnd-bw.de
SUMMARY:2026 SoSe Universität Tübingen
DESCRIPTION:
URL:https://www.hnd-bw.de/termine/2026-sose-universitaet-tuebingen/
CATEGORIES:Semestertermine
ATTACH;FMTTYPE=image/png:https://www.hnd-bw.de/wp-content/uploads/2025/08/Logo_Universitaet_Tuebingen_576x150-1.png
END:VEVENT
BEGIN:VEVENT
DTSTART;TZID=Europe/Berlin:20260413T000000
DTEND;TZID=Europe/Berlin:20260725T235959
DTSTAMP:20260421T114454
CREATED:20260415T113530Z
LAST-MODIFIED:20260415T113531Z
UID:16635-1776038400-1785023999@www.hnd-bw.de
SUMMARY:2026 SoSe Universität Heidelberg
DESCRIPTION:
URL:https://www.hnd-bw.de/termine/2026-sose-universitaet-heidelberg/
CATEGORIES:Semestertermine
ATTACH;FMTTYPE=image/png:https://www.hnd-bw.de/wp-content/uploads/2025/02/Universitaet_Heidelberg_Logo_2023-09-26.svg.png
END:VEVENT
BEGIN:VEVENT
DTSTART;TZID=Europe/Berlin:20260420T000000
DTEND;TZID=Europe/Berlin:20260725T235959
DTSTAMP:20260421T114454
CREATED:20260415T113636Z
LAST-MODIFIED:20260415T113637Z
UID:16637-1776643200-1785023999@www.hnd-bw.de
SUMMARY:2026 SoSe Universität Freiburg
DESCRIPTION:
URL:https://www.hnd-bw.de/termine/2026-sose-universitaet-freiburg/
CATEGORIES:Semestertermine
ATTACH;FMTTYPE=image/png:https://www.hnd-bw.de/wp-content/uploads/2025/02/Test_Freiburg.png
END:VEVENT
BEGIN:VEVENT
DTSTART;TZID=Europe/Berlin:20260420T000000
DTEND;TZID=Europe/Berlin:20260801T235959
DTSTAMP:20260421T114454
CREATED:20260415T112929Z
LAST-MODIFIED:20260415T112930Z
UID:16627-1776643200-1785628799@www.hnd-bw.de
SUMMARY:2026 SoSe Karlsruher Institut für Technologie2026 SoSe
DESCRIPTION:
URL:https://www.hnd-bw.de/termine/2026-sose-karlsruher-institut-fuer-technologie2026-sose/
CATEGORIES:Semestertermine
ATTACH;FMTTYPE=image/png:https://www.hnd-bw.de/wp-content/uploads/2021/12/KITlogo_4C_269x150.png
END:VEVENT
BEGIN:VEVENT
DTSTART;TZID=Europe/Berlin:20260421T100000
DTEND;TZID=Europe/Berlin:20260421T123000
DTSTAMP:20260421T114454
CREATED:20260223T091656Z
LAST-MODIFIED:20260302T100456Z
UID:16381-1776765600-1776774600@www.hnd-bw.de
SUMMARY:KI in der Hochschullehre - Innovationen rechtsicher gestalten (Online\, 21.04.2026)
DESCRIPTION:Die Online-Veranstaltung „KI in der Hochschullehre – Innovationen rechtssicher gestalten“ findet am Dienstag\, 21. April von 10:00–12:30 Uhr statt und wird von Hub Recht des Netzwerks der Landeseinrichtung für digitale Hochschullehre (NeL) angeboten und durch die NeL-Partnereinrichtungen HND-BW und MMKH organisiert. „NeL-Hub Recht“ ist die länderübergreifende Plattform für Rechtsinformation zur digitalen Lehre auf Initiative von bwDigiRecht\, HND-BW\, MMKH\, ORCA.NRW\, VCRP und vhb. Die Teilnahme ist kostenfrei. Eine Anmeldung über das untenstehende Formular ist aus organisatorischen Gründen erforderlich. \n\n\n\nKünstliche Intelligenz verändert zunehmend die Kernbereiche von Hochschulen. Dabei ergeben sich auch neue rechtliche Fragen. Die Online-Veranstaltung beleuchtet aktuelle Entwicklungen rund um Text- und Data-Mining\, den Einsatz von KI in Prüfungen sowie datenschutzrechtliche Anforderungen. \n\n\n\nSo stehen die Auseinandersetzung GEMA vs. OpenAI\, der Weg von KI-Empfehlungen zu rechtsverbindlichen Regelungen an Hochschulen und ein Rechtsprechungsupdate zum KI-Einsatz in Prüfungen sowie KI und das Datenschutzrecht im Fokus der Fachveranstaltung. \n\n\n\nAnmeldung\n\n\n\nFür die Teilnahme ist eine ▶ Anmeldung erforderlich. \n\n\n\nProgramm\n\n\n\n\n\n \n    \n    \n  \n\n\n\n\n\n\n\n\n\n\n\n10:00-10:10\nBegrüßung durch die Organisatoren\n\n\n\n\n\n\n\n\n\n\n10:10-10:40\nKeynote von Prof. Dr. Achim Förster (Technische Hochschule Würzburg-Schweinfurt) zum Thema “GEMA vs. Open AI. Wie geht es weiter beim Text und Data Mining?”\n\n\n\n\n\n\n\n\n\n\n\n10:40-11:05\nKurzvortrag der Rechtsinformationsstelle bwDigiRecht: “Hochschulen im Spannungsfeld KI – Von Empfehlungen zu rechtsverbindlichen Nutzungsregelungen”\n\n\n\n\n\n\n\n\n\n\n\n11:05-11:30\nKurzvortrag der Rechtsinformationsstellen von MMKH und HOOU@HAW Hamburg zum Thema “KI-Einsatz in Prüfungen: Rechtsprechungsupdate inkl. Handlungsempfehlungen”\n\n\n\n\n\n\n\n\n\n\n\n11:30-11:55\nKurzvortrag der Rechtsinformationsstelle von ORCA.nrw: “KI und Datenschutzrecht”\n\n\n\n\n\n\n\n\n\n\n\n11:55-12:25\nOffene Fragerunde \n\n\n\n\n\n\n\n\n\n\n\n12:25-12:30\nVerabschiedung durch die Veranstalter\n\n\n\n\n\n\n\n\n\n\n\nWeitere Informationen finden Sie auf der ▶ Veranstaltungswebsite .
URL:https://www.hnd-bw.de/termine/ki-in-der-hochschullehre-innovationen-rechtsicher-gestalten-online-21-04-2026/
CATEGORIES:Veranstaltungen zur Digitalisierung von Lehre & Lernen
ATTACH;FMTTYPE=image/jpeg:https://www.hnd-bw.de/wp-content/uploads/2026/02/event_nel_04-2026.jpg
END:VEVENT
END:VCALENDAR