BEGIN:VCALENDAR
VERSION:2.0
PRODID:-//Hochschulnetzwerk Digitalisierung der Lehre Baden-Württemberg - ECPv6.15.15//NONSGML v1.0//EN
CALSCALE:GREGORIAN
METHOD:PUBLISH
X-ORIGINAL-URL:https://www.hnd-bw.de
X-WR-CALDESC:Veranstaltungen für Hochschulnetzwerk Digitalisierung der Lehre Baden-Württemberg
REFRESH-INTERVAL;VALUE=DURATION:PT1H
X-Robots-Tag:noindex
X-PUBLISHED-TTL:PT1H
BEGIN:VTIMEZONE
TZID:Europe/Berlin
BEGIN:DAYLIGHT
TZOFFSETFROM:+0100
TZOFFSETTO:+0200
TZNAME:CEST
DTSTART:20220327T010000
END:DAYLIGHT
BEGIN:STANDARD
TZOFFSETFROM:+0200
TZOFFSETTO:+0100
TZNAME:CET
DTSTART:20221030T010000
END:STANDARD
BEGIN:DAYLIGHT
TZOFFSETFROM:+0100
TZOFFSETTO:+0200
TZNAME:CEST
DTSTART:20230326T010000
END:DAYLIGHT
BEGIN:STANDARD
TZOFFSETFROM:+0200
TZOFFSETTO:+0100
TZNAME:CET
DTSTART:20231029T010000
END:STANDARD
BEGIN:DAYLIGHT
TZOFFSETFROM:+0100
TZOFFSETTO:+0200
TZNAME:CEST
DTSTART:20240331T010000
END:DAYLIGHT
BEGIN:STANDARD
TZOFFSETFROM:+0200
TZOFFSETTO:+0100
TZNAME:CET
DTSTART:20241027T010000
END:STANDARD
END:VTIMEZONE
BEGIN:VEVENT
DTSTART;TZID=Europe/Berlin:20230120T120000
DTEND;TZID=Europe/Berlin:20230120T130000
DTSTAMP:20260421T115909
CREATED:20221107T120955Z
LAST-MODIFIED:20221206T094753Z
UID:9524-1674216000-1674219600@www.hnd-bw.de
SUMMARY:HND-BW up>date „Mobile hybride Set-Ups“ (Andreas Sexauer\, KIT - 20.01.2023\, online)
DESCRIPTION:up>date ist das Online-Format des HND-BW für den schnellen Austausch zu aktuellen Fragen des digitalen Lehrens\, Lernens und Prüfens. Am 20.01.2023\, 12 – 13 Uhr stellt Andreas Sexauer (Karlsruher Institut für Technologie) das Thema „Mobile hybride Set-Ups“ vor. Die Veranstaltung findet statt in Kooperation mit dem „Netzwerk der Landeseinrichtungen für digitale Hochschullehre (NeL)“. \nAndreas Sexauer arbeitet im Zentrum für Mediales Lernen (ZML) am Karlsruher Institut für Technologie (KIT). Er war maßgeblich dafür verantwortlich\, die Möglichkeiten der hybriden Lehre als Notlösung in der Pandemie aufzubauen. Nun damit\, diese in eine darüber hinaus fortbestehende Nutzung zu überführen. Im Think Tank Hybride Lehre des Hochschulnetzwerks Digitalisierung der Lehre Baden-Württemberg (HND-BW) wirkt er an der landesweiten Entwicklung dazu mit. Bei HND-BW up>date stellt er technisch unaufwändige Möglichkeiten vor\, hybride Lehrveranstaltungen niedrigschwellig zu realisieren. Im Anschluss an die Demonstration gibt es Raum für Fragen und den offenen Austausch. \nAn Umsetzungsmöglichkeiten hybrider Lehre Interessierte aus allen Fächern und Bereichen sind herzlich eingeladen. Zur Teilnahme ist eine Anmeldung bis 15.01.2023 erforderlich. Den Zugangslink zur Online-Veranstaltung erhalten alle Angemeldeten unmittelbar im Vorfeld der Veranstaltung.
URL:https://www.hnd-bw.de/termine/hnd-bw-update-mobile-hybride-set-ups-andreas-sexauer-kit/
CATEGORIES:Veranstaltungen zur Digitalisierung von Lehre & Lernen
ATTACH;FMTTYPE=image/png:https://www.hnd-bw.de/wp-content/uploads/2022/11/HND-BW_Update-Logo_neu_JeC_2022-11-23-e1670319974960.png
END:VEVENT
END:VCALENDAR