BEGIN:VCALENDAR
VERSION:2.0
PRODID:-//Hochschulnetzwerk Digitalisierung der Lehre Baden-Württemberg - ECPv6.15.15//NONSGML v1.0//EN
CALSCALE:GREGORIAN
METHOD:PUBLISH
X-WR-CALNAME:Hochschulnetzwerk Digitalisierung der Lehre Baden-Württemberg
X-ORIGINAL-URL:https://www.hnd-bw.de
X-WR-CALDESC:Veranstaltungen für Hochschulnetzwerk Digitalisierung der Lehre Baden-Württemberg
REFRESH-INTERVAL;VALUE=DURATION:PT1H
X-Robots-Tag:noindex
X-PUBLISHED-TTL:PT1H
BEGIN:VTIMEZONE
TZID:Europe/Berlin
BEGIN:DAYLIGHT
TZOFFSETFROM:+0100
TZOFFSETTO:+0200
TZNAME:CEST
DTSTART:20220327T010000
END:DAYLIGHT
BEGIN:STANDARD
TZOFFSETFROM:+0200
TZOFFSETTO:+0100
TZNAME:CET
DTSTART:20221030T010000
END:STANDARD
BEGIN:DAYLIGHT
TZOFFSETFROM:+0100
TZOFFSETTO:+0200
TZNAME:CEST
DTSTART:20230326T010000
END:DAYLIGHT
BEGIN:STANDARD
TZOFFSETFROM:+0200
TZOFFSETTO:+0100
TZNAME:CET
DTSTART:20231029T010000
END:STANDARD
BEGIN:DAYLIGHT
TZOFFSETFROM:+0100
TZOFFSETTO:+0200
TZNAME:CEST
DTSTART:20240331T010000
END:DAYLIGHT
BEGIN:STANDARD
TZOFFSETFROM:+0200
TZOFFSETTO:+0100
TZNAME:CET
DTSTART:20241027T010000
END:STANDARD
END:VTIMEZONE
BEGIN:VEVENT
DTSTART;TZID=Europe/Berlin:20230426T155000
DTEND;TZID=Europe/Berlin:20230426T162000
DTSTAMP:20260422T080831
CREATED:20230406T083023Z
LAST-MODIFIED:20230406T084004Z
UID:10357-1682524200-1682526000@www.hnd-bw.de
SUMMARY:Datenschutz und digitale Prüfungen – eine schwierige Beziehung? (online\, 26.04.2023)
DESCRIPTION:University:Future Festival 2023 \nKeynote:\nDatenschutz und digitale Prüfungen – eine schwierige Beziehung? (Ralph Kraemer) \n26. April 2023\, 15:50 – 16:20 Uhr im Raum Digital 1
URL:https://www.hnd-bw.de/termine/datenschutz-und-digitale-pruefungen-eine-schwierige-beziehung/
CATEGORIES:Veranstaltungen zur Digitalisierung von Lehre & Lernen
ATTACH;FMTTYPE=image/png:https://www.hnd-bw.de/wp-content/uploads/2023/04/U-FF-2023-Logo_Veranstaltungen-1.png
END:VEVENT
END:VCALENDAR