BEGIN:VCALENDAR
VERSION:2.0
PRODID:-//Hochschulnetzwerk Digitalisierung der Lehre Baden-Württemberg - ECPv6.15.15//NONSGML v1.0//EN
CALSCALE:GREGORIAN
METHOD:PUBLISH
X-ORIGINAL-URL:https://www.hnd-bw.de
X-WR-CALDESC:Veranstaltungen für Hochschulnetzwerk Digitalisierung der Lehre Baden-Württemberg
REFRESH-INTERVAL;VALUE=DURATION:PT1H
X-Robots-Tag:noindex
X-PUBLISHED-TTL:PT1H
BEGIN:VTIMEZONE
TZID:Europe/Berlin
BEGIN:DAYLIGHT
TZOFFSETFROM:+0100
TZOFFSETTO:+0200
TZNAME:CEST
DTSTART:20220327T010000
END:DAYLIGHT
BEGIN:STANDARD
TZOFFSETFROM:+0200
TZOFFSETTO:+0100
TZNAME:CET
DTSTART:20221030T010000
END:STANDARD
BEGIN:DAYLIGHT
TZOFFSETFROM:+0100
TZOFFSETTO:+0200
TZNAME:CEST
DTSTART:20230326T010000
END:DAYLIGHT
BEGIN:STANDARD
TZOFFSETFROM:+0200
TZOFFSETTO:+0100
TZNAME:CET
DTSTART:20231029T010000
END:STANDARD
BEGIN:DAYLIGHT
TZOFFSETFROM:+0100
TZOFFSETTO:+0200
TZNAME:CEST
DTSTART:20240331T010000
END:DAYLIGHT
BEGIN:STANDARD
TZOFFSETFROM:+0200
TZOFFSETTO:+0100
TZNAME:CET
DTSTART:20241027T010000
END:STANDARD
END:VTIMEZONE
BEGIN:VEVENT
DTSTART;TZID=Europe/Berlin:20231130T130000
DTEND;TZID=Europe/Berlin:20231130T160000
DTSTAMP:20260423T084711
CREATED:20231027T092656Z
LAST-MODIFIED:20231124T170134Z
UID:10823-1701349200-1701360000@www.hnd-bw.de
SUMMARY:Workshop »Künstlich\, Kunst\, KI? - Künstliche Intelligenz im Lehr-Lernkontext und Hochschulalltag (Alexander Klein\, 30.11.2023\, online)
DESCRIPTION:Am 30.11.2023 findet von 13:00 bis 16:00 Uhr der Online-Workshop »Künstlich\, Kunst\, KI? Künstliche Intelligenz im Lehr-Lernkontext und Hochschulalltag« unter der Leitung von Alexander Klein von der Universität Konstanz statt. \n\n\n\nDer Workshop thematisiert grundlegende Fragen des Einsatzes von KI. Vorgestellt werden Einsatzmöglichkeiten gängiger Anwendungen\, Forschungsergebnisse und Praxiserfahrungen. In Form eines Experimentierraums lädt der Workshop dazu ein\, den Einsatz von künstlicher Intelligenz in verschiedenen Phasen und Aufgaben des Lehr-Lernprozesses zu erproben\, mit den Schwerpunkten Sprachmodelle und Research Assistent Tools und einem hands-on im Prompt Design. Ein weiterer Schwerpunkt des Workshops werden Prognosen für zukünftige Entwicklungen und Anwendungsszenarien von KI in Hochschulen sein und eine erste Bilanz und Erfahrungsbericht des Einsatzes von Generativen Sprachmodellen und KI aus der Sicht der Studierenden. Neben der Demonstration und Anwendung neuer KI-Tools wird auch Raum für den Austausch von Erfahrungen und Anregungen geboten. \n\n\n\nUm am Workshop teilzunehmen\, ist eine Anmeldung vorab notwendig. Die Zugangsdaten und den Zoom-Link zum Workshop erhalten Sie rechtzeitig vor der Veranstaltung. \n\n\n\nDie Veranstaltung findet im Rahmen des bundesweiten Projekts »Konzertierte Weiterbildungen zu künstlicher Intelligenz in der Hochschullehre« des Netzwerks der Landeseinrichtungen für digitale Hochschullehre (NeL) statt und wird von der Stiftung Innovation in der Hochschullehre gefördert. Geplant und angeboten wird dieser Workshop durch das HND-BW.
URL:https://www.hnd-bw.de/termine/workshop-zum-thema-ki-anwendungen-in-der-hochschullehre-online-30-11-2023/
CATEGORIES:Veranstaltungen zur Digitalisierung von Lehre & Lernen,Weiterbildung Künstliche Intelligenz in der Hochschullehre
ATTACH;FMTTYPE=image/png:https://www.hnd-bw.de/wp-content/uploads/2023/11/HND-BW_KI-WB_Klein-e1700840452163.png
END:VEVENT
END:VCALENDAR