BEGIN:VCALENDAR
VERSION:2.0
PRODID:-//Hochschulnetzwerk Digitalisierung der Lehre Baden-Württemberg - ECPv6.15.15//NONSGML v1.0//EN
CALSCALE:GREGORIAN
METHOD:PUBLISH
X-ORIGINAL-URL:https://www.hnd-bw.de
X-WR-CALDESC:Veranstaltungen für Hochschulnetzwerk Digitalisierung der Lehre Baden-Württemberg
REFRESH-INTERVAL;VALUE=DURATION:PT1H
X-Robots-Tag:noindex
X-PUBLISHED-TTL:PT1H
BEGIN:VTIMEZONE
TZID:Europe/Berlin
BEGIN:DAYLIGHT
TZOFFSETFROM:+0100
TZOFFSETTO:+0200
TZNAME:CEST
DTSTART:20220327T010000
END:DAYLIGHT
BEGIN:STANDARD
TZOFFSETFROM:+0200
TZOFFSETTO:+0100
TZNAME:CET
DTSTART:20221030T010000
END:STANDARD
BEGIN:DAYLIGHT
TZOFFSETFROM:+0100
TZOFFSETTO:+0200
TZNAME:CEST
DTSTART:20230326T010000
END:DAYLIGHT
BEGIN:STANDARD
TZOFFSETFROM:+0200
TZOFFSETTO:+0100
TZNAME:CET
DTSTART:20231029T010000
END:STANDARD
BEGIN:DAYLIGHT
TZOFFSETFROM:+0100
TZOFFSETTO:+0200
TZNAME:CEST
DTSTART:20240331T010000
END:DAYLIGHT
BEGIN:STANDARD
TZOFFSETFROM:+0200
TZOFFSETTO:+0100
TZNAME:CET
DTSTART:20241027T010000
END:STANDARD
END:VTIMEZONE
BEGIN:VEVENT
DTSTART;TZID=Europe/Berlin:20231207T130000
DTEND;TZID=Europe/Berlin:20231207T160000
DTSTAMP:20260423T070642
CREATED:20231114T120315Z
LAST-MODIFIED:20231127T075805Z
UID:10855-1701954000-1701964800@www.hnd-bw.de
SUMMARY:Workshop »KI-gestütztes Lernen erfolgreich gestalten« (07.12.2023\, Patrick Albus\, online)
DESCRIPTION:Am 07.12.2023 findet von 13:00 bis 16:00 Uhr der Online-Workshop mit dem Titel „KI-gestütztes Lernen erfolgreich gestalten“ statt. Unter der Leitung von Dr. Patrick Albus von der Universität Ulm\, widmet sich der interaktive Workshop der theoretischen und praktischen Integration von künstlicher Intelligenz in der Hochschullehre. \n\n\n\nDie Veranstaltung »KI-gestütztes Lernen erfolgreich gestalten« verbindet Theorie und Praxis\, um die Potenziale von KI in der Lehre zu beleuchten. Der Workshop konzentriert sich auf die Integration von künstlicher Intelligenz (KI) in den Bildungsprozess. Die Teilnehmenden werden untersuchen\, wie KI das Lehren und Lernen effektiv unterstützen kann und gleichzeitig die Herausforderungen und Lösungsansätze in diesem Bereich diskutieren. Das Hauptziel der Keynote ist es\, den Teilnehmenden theoretisch fundiertes Wissen über Lern- und KI-Kompetenzen zu vermitteln\, die für den erfolgreichen Einsatz von KI-Tools erforderlich sind. \n\n\n\nIn einem anschließenden interaktiven Workshop liegt der Schwerpunkt auf dem Erlernen fortgeschrittener Techniken im Umgang mit KI-Anwendungen wie ChatGPT. Dies ermöglicht den Teilnehmenden\, ihre eigenen kreativen Ideen für den Einsatz von KI in ihrem Bildungskontext zu entwickeln. Es wird ausreichend Gelegenheit für einen regen Austausch zwischen den Teilnehmenden geben\, um zu diskutieren\, wie diese neuen praktischen Fähigkeiten effektiv im Bildungsbereich eingesetzt werden können \n\n\n\nUm am Workshop teilzunehmen\, ist eine Anmeldung vorab notwendig. Die Zugangsdaten und den Zoom-Link zum Workshop erhalten Sie rechtzeitig eine Woche vor der Veranstaltung. \n\n\n\nDie Veranstaltung findet im Rahmen des bundesweiten Projekts »Konzertierte Weiterbildungen zu künstlicher Intelligenz in der Hochschullehre« des Netzwerks der Landeseinrichtungen für digitale Hochschullehre (NeL) statt und wird von der Stiftung Innovation in der Hochschullehre gefördert. Geplant und angeboten wird dieser Workshop durch das HND-BW.
URL:https://www.hnd-bw.de/termine/workshop-ki-gestuetztes-lernen-erfolgreich-gestalten-online-07-12-2023/
CATEGORIES:Veranstaltungen zur Digitalisierung von Lehre & Lernen,Weiterbildung Künstliche Intelligenz in der Hochschullehre
ATTACH;FMTTYPE=image/png:https://www.hnd-bw.de/wp-content/uploads/2023/11/HND-BW_KI-WB_Albus-1-e1700842959428.png
END:VEVENT
END:VCALENDAR